BEGIN:VCALENDAR
VERSION:2.0
PRODID:-//UMission for Peace - ECPv6.5.1.6//NONSGML v1.0//EN
CALSCALE:GREGORIAN
METHOD:PUBLISH
X-WR-CALNAME:UMission for Peace
X-ORIGINAL-URL:https://umission4peace.org.my
X-WR-CALDESC:Events for UMission for Peace
REFRESH-INTERVAL;VALUE=DURATION:PT1H
X-Robots-Tag:noindex
X-PUBLISHED-TTL:PT1H
BEGIN:VTIMEZONE
TZID:UTC
BEGIN:STANDARD
TZOFFSETFROM:+0000
TZOFFSETTO:+0000
TZNAME:UTC
DTSTART:20240101T000000
END:STANDARD
END:VTIMEZONE
BEGIN:VEVENT
DTSTART;VALUE=DATE:20240101
DTEND;VALUE=DATE:20240331
DTSTAMP:20260422T002630
CREATED:20210726T102751Z
LAST-MODIFIED:20241015T135243Z
UID:752-1704067200-1711843199@umission4peace.org.my
SUMMARY:SYRIAN RAMADAN AID 2024
DESCRIPTION:At UMission for Peace\, we believe in the power of compassion and solidarity. As the holy month of Ramadan approaches\, we are launching our annual fundraising campaign to provide crucial support to Syrian refugees in Turkey. \nThe Syrian conflict has caused immense suffering\, displacing millions of people from their homes. As they seek refuge in neighboring countries like Turkey\, they face numerous challenges\, especially during Ramadan. Many families struggle to afford basic necessities\, let alone celebrate the spirit of Ramadan with dignity and peace. \nOur Ramadan Aid 2024 campaign aims to alleviate some of the hardships faced by Syrian refugees during this sacred month. Here’s how you can contribute to our cause: \n1. Iftar Hot Meals: Your donations will help us provide nutritious iftar meals to families in need. With your support\, we can ensure that every family can break their fast with a warm and fulfilling meal. \n2. Food Parcels: We will distribute food parcels containing essential items to vulnerable families\, ensuring they have enough provisions to sustain themselves throughout Ramadan and beyond. \n3. Education Support: Education is key to building a better future. Your contributions will enable us to provide educational resources and support to Syrian refugee children\, helping them continue their learning journey despite the challenges they face. \n4. Medical Aid: Access to healthcare is crucial\, especially in times of crisis. Your donations will help us provide medical assistance and essential supplies to those in need\, ensuring they receive the care they deserve. \nYour generosity can make a real difference in the lives of Syrian refugees. Together\, we can bring hope\, relief\, and dignity to those who need it the most. Join us in spreading love and compassion this Ramadan. \nDonate now and be a beacon of light in someone’s darkness. \nUMission for Peace – Empowering Humanity\, One Act of Kindness at a Time.
URL:https://umission4peace.org.my/event/one-day-online-fundraiser-2
ATTACH;FMTTYPE=image/png:https://umission4peace.org.my/wp-content/uploads/2021/07/5-min.png
END:VEVENT
BEGIN:VEVENT
DTSTART;VALUE=DATE:20240814
DTEND;VALUE=DATE:20240817
DTSTAMP:20260422T002630
CREATED:20240806T065559Z
LAST-MODIFIED:20241015T135253Z
UID:2276-1723593600-1723852799@umission4peace.org.my
SUMMARY:ROHLC ULUL ALBAB CAMPING @ BATANG KALI
DESCRIPTION:UMission For Peace Malaysia will organize a programme called BRO 10.0: Kem Ulul Albab in collaboration with UMission Club IIUM. This programme will be held from the 14th to 16th August 2024. Volunteering is always about giving\, contributing\, and lending hands to needy individuals and society as a whole\, which serves as the basis of this programme and the previous programmes that have been successfully carried out. The Kem Ulul Albab programme is designed to provide refugee students with a transformative experience that takes them out of their usual environments and immerses them in the enriching world of camping. This initiative aims to foster personal growth by enhancing social skills through activities promoting unity\, teamwork\, and respect for others. Participates will develop greater confidence and a stronger sense of community by engaging in these collaborative challenges.
URL:https://umission4peace.org.my/event/rohlc-ulul-albab-camping-batang-kali
LOCATION:KEM RIMBA TAMU\, BATANG KALI\, KEM RIMBA TAMU\, BATANG KALI\, SELANGOR\, Malaysia
CATEGORIES:Our Recent Events
END:VEVENT
BEGIN:VEVENT
DTSTART;TZID=UTC:20241015T080000
DTEND;TZID=UTC:20241015T170000
DTSTAMP:20260422T002630
CREATED:20241015T135516Z
LAST-MODIFIED:20241015T135516Z
UID:2318-1728979200-1729011600@umission4peace.org.my
SUMMARY:JKU 12.0 @ Tanjung Lanai\, Thailand
DESCRIPTION:
URL:https://umission4peace.org.my/event/jku-12-0-tanjung-lanai-thailand
CATEGORIES:Our Recent Events
END:VEVENT
END:VCALENDAR